View In:
ArcGIS JavaScript
ArcGIS Online Map Viewer
ArcGIS Earth
Service Description: Fire - Potential Hazardous Forest Types for Wildland Fire - https://geohub.lio.gov.on.ca/documents/f52f092ee6744e0687ead57f78b5d88a/about
Name: wpsgnPublic/HazardousFuelTypes_2025
Description: Fire - Potential Hazardous Forest Types for Wildland Fire - https://geohub.lio.gov.on.ca/documents/f52f092ee6744e0687ead57f78b5d88a/about
Single Fused Map Cache: false
Extent:
XMin: 902734.5454042469
YMin: -523229.0591355247
XMax: 1446946.1384362997
YMax: -15779.125099514175
Spatial Reference: 3978
(3978)
Initial Extent:
XMin: 902734.5454042469
YMin: -523229.0591355247
XMax: 1446946.1384362997
YMax: -15779.125099514175
Spatial Reference: 3978
(3978)
Full Extent:
XMin: 902734.5454042469
YMin: -523229.0591355247
XMax: 1446946.1384362997
YMax: -15779.125099514175
Spatial Reference: 3978
(3978)
Pixel Size X: 38.67336505344321
Pixel Size Y: 41.4820513394924
Band Count: 1
Pixel Type: S16
RasterFunction Infos: {"rasterFunctionInfos": [{
"name": "None",
"description": "",
"help": ""
}]}
Mensuration Capabilities: Basic
Inspection Capabilities:
Has Histograms: true
Has Colormap: false
Has Multi Dimensions : false
Rendering Rule:
Min Scale: 0
Max Scale: 0
Resampling: false
Copyright Text:
Service Data Type: esriImageServiceDataTypeThematic
Min Values: 1
Max Values: 675
Mean Values: 150.75682511971686
Standard Deviation Values: 228.93713896097432
Object ID Field:
Fields:
None
Default Mosaic Method: Center
Allowed Mosaic Methods:
SortField:
SortValue: null
Mosaic Operator: First
Default Compression Quality: 75
Default Resampling Method: Bilinear
Max Record Count: null
Max Image Height: 4100
Max Image Width: 15000
Max Download Image Count: null
Max Mosaic Image Count: null
Allow Raster Function: true
Allow Copy: true
Allow Analysis: true
Allow Compute TiePoints: false
Supports Statistics: false
Supports Advanced Queries: false
Use StandardizedQueries: true
Raster Type Infos:
Name: Raster Dataset
Description: Supports all ArcGIS Raster Datasets
Help:
Has Raster Attribute Table: true
Edit Fields Info: null
Ownership Based AccessControl For Rasters: null
Child Resources:
Info
Raster Attribute Table
Histograms
Statistics
Key Properties
Legend
Raster Function Infos
Supported Operations:
Export Image
Identify
Measure
Compute Histograms
Compute Statistics Histograms
Get Samples
Compute Class Statistics
Query Boundary
Compute Pixel Location
Compute Angles
Validate
Project